Package: diffUTR Version: 1.16.0 Command: /home/biocbuild/R/R/bin/R CMD build --keep-empty-dirs --no-resave-data diffUTR StartedAt: 2025-06-13 00:17:53 -0000 (Fri, 13 Jun 2025) EndedAt: 2025-06-13 00:19:37 -0000 (Fri, 13 Jun 2025) EllapsedTime: 104.0 seconds RetCode: 0 Status: OK PackageFile: diffUTR_1.16.0.tar.gz PackageFileSize: 1.37 MiB