Package: diffHic Version: 1.38.0 Command: /home/biocbuild/R/R/bin/R CMD check --install=check:diffHic.install-out.txt --library=/home/biocbuild/R/R/site-library --no-vignettes --timings diffHic_1.38.0.tar.gz StartedAt: 2025-01-31 05:41:27 -0000 (Fri, 31 Jan 2025) EndedAt: 2025-01-31 05:48:03 -0000 (Fri, 31 Jan 2025) EllapsedTime: 396.3 seconds RetCode: 0 Status: OK CheckDir: diffHic.Rcheck Warnings: 0