Package: diffHic Version: 1.38.0 Command: rm -rf diffHic.buildbin-libdir && mkdir diffHic.buildbin-libdir && F:\biocbuild\bbs-3.20-bioc\R\bin\R.exe CMD INSTALL --build --library=diffHic.buildbin-libdir diffHic_1.38.0.tar.gz StartedAt: 2025-01-31 08:32:51 -0500 (Fri, 31 Jan 2025) EndedAt: 2025-01-31 08:35:21 -0500 (Fri, 31 Jan 2025) EllapsedTime: 150.1 seconds RetCode: 0 Status: OK PackageFile: diffHic_1.38.0.zip PackageFileSize: 6.912 MiB