Package: diffHic Version: 1.38.0 Command: /Library/Frameworks/R.framework/Resources/bin/R CMD build --keep-empty-dirs --no-resave-data diffHic StartedAt: 2025-01-30 18:40:17 -0500 (Thu, 30 Jan 2025) EndedAt: 2025-01-30 18:44:42 -0500 (Thu, 30 Jan 2025) EllapsedTime: 265.5 seconds RetCode: 0 Status: OK PackageFile: diffHic_1.38.0.tar.gz PackageFileSize: 1.517 MiB