Package: diffHic Version: 1.38.0 Command: rm -rf diffHic.buildbin-libdir && mkdir diffHic.buildbin-libdir && /Users/biocbuild/BBS/utils/build-universal.sh diffHic_1.38.0.tar.gz /Library/Frameworks/R.framework/Resources/bin/R diffHic.buildbin-libdir StartedAt: 2025-01-31 12:41:30 -0500 (Fri, 31 Jan 2025) EndedAt: 2025-01-31 12:44:49 -0500 (Fri, 31 Jan 2025) EllapsedTime: 198.8 seconds RetCode: 0 Status: OK PackageFile: diffHic_1.38.0.tgz PackageFileSize: 2.551 MiB