Package: diffHic Version: 1.40.0 Command: /home/biocbuild/R/R/bin/R CMD check --install=check:diffHic.install-out.txt --library=/home/biocbuild/R/R/site-library --no-vignettes --timings diffHic_1.40.0.tar.gz StartedAt: 2025-04-22 08:20:34 -0000 (Tue, 22 Apr 2025) EndedAt: 2025-04-22 08:27:55 -0000 (Tue, 22 Apr 2025) EllapsedTime: 441.3 seconds RetCode: 0 Status: OK CheckDir: diffHic.Rcheck Warnings: 0