Package: diffHic Version: 1.38.0 Command: /Library/Frameworks/R.framework/Resources/bin/R CMD INSTALL diffHic StartedAt: 2024-11-08 15:26:27 -0500 (Fri, 08 Nov 2024) EndedAt: 2024-11-08 15:26:57 -0500 (Fri, 08 Nov 2024) EllapsedTime: 29.5 seconds RetCode: 0 Status: OK