Package: diffHic Version: 1.38.0 Command: /Library/Frameworks/R.framework/Resources/bin/R CMD INSTALL diffHic StartedAt: 2025-01-30 16:04:58 -0500 (Thu, 30 Jan 2025) EndedAt: 2025-01-30 16:06:36 -0500 (Thu, 30 Jan 2025) EllapsedTime: 97.4 seconds RetCode: 0 Status: OK