Package: diffGeneAnalysis Version: 1.88.0 Command: /home/biocbuild/R/R/bin/R CMD check --install=check:diffGeneAnalysis.install-out.txt --library=/home/biocbuild/R/R/site-library --no-vignettes --timings diffGeneAnalysis_1.88.0.tar.gz StartedAt: 2025-01-31 05:41:11 -0000 (Fri, 31 Jan 2025) EndedAt: 2025-01-31 05:41:27 -0000 (Fri, 31 Jan 2025) EllapsedTime: 16.0 seconds RetCode: 0 Status: OK CheckDir: diffGeneAnalysis.Rcheck Warnings: 0