Package: diffGeneAnalysis Version: 1.88.0 Command: /home/biocbuild/R/R/bin/R CMD build --keep-empty-dirs --no-resave-data diffGeneAnalysis StartedAt: 2025-01-30 23:11:22 -0000 (Thu, 30 Jan 2025) EndedAt: 2025-01-30 23:11:27 -0000 (Thu, 30 Jan 2025) EllapsedTime: 5.0 seconds RetCode: 0 Status: OK PackageFile: diffGeneAnalysis_1.88.0.tar.gz PackageFileSize: 209 KiB