Package: diffGeneAnalysis Version: 1.92.0 Command: /Library/Frameworks/R.framework/Resources/bin/R CMD check --install=check:diffGeneAnalysis.install-out.txt --library=/Library/Frameworks/R.framework/Resources/library --no-vignettes --timings diffGeneAnalysis_1.92.0.tar.gz StartedAt: 2025-11-03 20:47:34 -0500 (Mon, 03 Nov 2025) EndedAt: 2025-11-03 20:48:00 -0500 (Mon, 03 Nov 2025) EllapsedTime: 26.5 seconds RetCode: 0 Status: OK CheckDir: diffGeneAnalysis.Rcheck Warnings: 0