Package: destiny Version: 3.20.0 Command: F:\biocbuild\bbs-3.20-bioc\R\bin\R.exe CMD check --no-multiarch --install=check:destiny.install-out.txt --library=F:\biocbuild\bbs-3.20-bioc\R\library --no-vignettes --timings destiny_3.20.0.tar.gz StartedAt: 2025-01-31 01:22:36 -0500 (Fri, 31 Jan 2025) EndedAt: 2025-01-31 01:27:58 -0500 (Fri, 31 Jan 2025) EllapsedTime: 321.5 seconds RetCode: 0 Status: OK CheckDir: destiny.Rcheck Warnings: 0