Package: destiny Version: 3.20.0 Command: rm -rf destiny.buildbin-libdir && mkdir destiny.buildbin-libdir && F:\biocbuild\bbs-3.20-bioc\R\bin\R.exe CMD INSTALL --build --library=destiny.buildbin-libdir destiny_3.20.0.tar.gz StartedAt: 2025-01-31 08:32:10 -0500 (Fri, 31 Jan 2025) EndedAt: 2025-01-31 08:33:51 -0500 (Fri, 31 Jan 2025) EllapsedTime: 100.6 seconds RetCode: 0 Status: OK PackageFile: destiny_3.20.0.zip PackageFileSize: 1.755 MiB