Package: destiny Version: 3.20.0 Command: /home/biocbuild/bbs-3.20-bioc/R/bin/R CMD build --keep-empty-dirs --no-resave-data --md5 destiny StartedAt: 2025-01-30 17:01:19 -0500 (Thu, 30 Jan 2025) EndedAt: 2025-01-30 17:07:22 -0500 (Thu, 30 Jan 2025) EllapsedTime: 362.4 seconds RetCode: 0 Status: OK PackageFile: destiny_3.20.0.tar.gz PackageFileSize: 875.2 KiB