Package: destiny Version: 3.20.0 Command: rm -rf destiny.buildbin-libdir && mkdir destiny.buildbin-libdir && /Users/biocbuild/BBS/utils/build-universal.sh destiny_3.20.0.tar.gz /Library/Frameworks/R.framework/Resources/bin/R destiny.buildbin-libdir StartedAt: 2025-01-31 12:40:58 -0500 (Fri, 31 Jan 2025) EndedAt: 2025-01-31 12:42:51 -0500 (Fri, 31 Jan 2025) EllapsedTime: 113.0 seconds RetCode: 0 Status: OK PackageFile: destiny_3.20.0.tgz PackageFileSize: 1.851 MiB