Package: destiny Version: 3.22.0 Command: rm -rf destiny.buildbin-libdir && mkdir destiny.buildbin-libdir && /Users/biocbuild/BBS/utils/build-universal.sh destiny_3.22.0.tar.gz /Library/Frameworks/R.framework/Resources/bin/R destiny.buildbin-libdir StartedAt: 2025-04-22 00:42:24 -0400 (Tue, 22 Apr 2025) EndedAt: 2025-04-22 00:43:31 -0400 (Tue, 22 Apr 2025) EllapsedTime: 67.2 seconds RetCode: 0 Status: OK PackageFile: destiny_3.22.0.tgz PackageFileSize: 1.861 MiB