Package: destiny Version: 3.22.0 Command: /home/biocbuild/R/R/bin/R CMD build --keep-empty-dirs --no-resave-data destiny StartedAt: 2025-04-22 00:12:40 -0000 (Tue, 22 Apr 2025) EndedAt: 2025-04-22 00:22:47 -0000 (Tue, 22 Apr 2025) EllapsedTime: 607.2 seconds RetCode: 0 Status: OK PackageFile: destiny_3.22.0.tar.gz PackageFileSize: 819.4 KiB