Package: destiny Version: 3.22.0 Command: /Library/Frameworks/R.framework/Resources/bin/R CMD check --install=check:destiny.install-out.txt --library=/Library/Frameworks/R.framework/Resources/library --no-vignettes --timings destiny_3.22.0.tar.gz StartedAt: 2025-04-29 04:30:49 -0400 (Tue, 29 Apr 2025) EndedAt: 2025-04-29 04:32:29 -0400 (Tue, 29 Apr 2025) EllapsedTime: 100.0 seconds RetCode: 0 Status: OK CheckDir: destiny.Rcheck Warnings: 0