Package: derfinderPlot Version: 1.42.0 Command: chmod a+r derfinderPlot -R && E:\biocbuild\bbs-3.21-bioc\R\bin\R.exe CMD build --keep-empty-dirs --no-resave-data derfinderPlot StartedAt: 2025-08-14 18:35:00 -0400 (Thu, 14 Aug 2025) EndedAt: 2025-08-14 18:39:58 -0400 (Thu, 14 Aug 2025) EllapsedTime: 298.0 seconds RetCode: 0 Status: OK PackageFile: derfinderPlot_1.42.0.tar.gz PackageFileSize: 911.9 KiB