Package: derfinderHelper Version: 1.42.0 Command: /Library/Frameworks/R.framework/Resources/bin/R CMD INSTALL derfinderHelper StartedAt: 2025-04-21 15:14:23 -0400 (Mon, 21 Apr 2025) EndedAt: 2025-04-21 15:14:38 -0400 (Mon, 21 Apr 2025) EllapsedTime: 15.2 seconds RetCode: 0 Status: OK