Package: derfinderHelper Version: 1.42.0 Command: /Library/Frameworks/R.framework/Resources/bin/R CMD build --keep-empty-dirs --no-resave-data derfinderHelper StartedAt: 2025-04-21 16:09:49 -0400 (Mon, 21 Apr 2025) EndedAt: 2025-04-21 16:09:57 -0400 (Mon, 21 Apr 2025) EllapsedTime: 8.1 seconds RetCode: 0 Status: OK PackageFile: derfinderHelper_1.42.0.tar.gz PackageFileSize: 309.9 KiB