Package: derfinder Version: 1.40.0 Command: /home/biocbuild/R/R/bin/R CMD check --install=check:derfinder.install-out.txt --library=/home/biocbuild/R/R/site-library --no-vignettes --timings derfinder_1.40.0.tar.gz StartedAt: 2025-01-31 05:37:26 -0000 (Fri, 31 Jan 2025) EndedAt: 2025-01-31 05:47:28 -0000 (Fri, 31 Jan 2025) EllapsedTime: 602.5 seconds RetCode: 0 Status: OK CheckDir: derfinder.Rcheck Warnings: 0