Package: derfinder Version: 1.42.0 Command: /Library/Frameworks/R.framework/Resources/bin/R CMD INSTALL derfinder StartedAt: 2025-05-08 16:37:11 -0400 (Thu, 08 May 2025) EndedAt: 2025-05-08 16:38:46 -0400 (Thu, 08 May 2025) EllapsedTime: 95.5 seconds RetCode: 0 Status: OK