Package: demuxmix Version: 1.8.0 Command: rm -rf demuxmix.buildbin-libdir && mkdir demuxmix.buildbin-libdir && F:\biocbuild\bbs-3.20-bioc\R\bin\R.exe CMD INSTALL --build --library=demuxmix.buildbin-libdir demuxmix_1.8.0.tar.gz StartedAt: 2025-02-11 08:19:09 -0500 (Tue, 11 Feb 2025) EndedAt: 2025-02-11 08:19:36 -0500 (Tue, 11 Feb 2025) EllapsedTime: 27.3 seconds RetCode: 0 Status: OK PackageFile: demuxmix_1.8.0.zip PackageFileSize: 1.004 <A href="http://en.wikipedia.org/wiki/MiB" target="_blank">MiB</A>