Package: demuxmix Version: 1.10.0 Command: /Library/Frameworks/R.framework/Resources/bin/R CMD INSTALL demuxmix StartedAt: 2025-04-21 15:08:27 -0400 (Mon, 21 Apr 2025) EndedAt: 2025-04-21 15:09:06 -0400 (Mon, 21 Apr 2025) EllapsedTime: 39.1 seconds RetCode: 0 Status: OK