Package: demuxmix Version: 1.8.0 Command: /home/biocbuild/R/R/bin/R CMD build --keep-empty-dirs --no-resave-data demuxmix StartedAt: 2024-11-20 00:13:33 -0000 (Wed, 20 Nov 2024) EndedAt: 2024-11-20 00:14:30 -0000 (Wed, 20 Nov 2024) EllapsedTime: 56.1 seconds RetCode: 0 Status: OK PackageFile: demuxmix_1.8.0.tar.gz PackageFileSize: 858.1 KiB