Package: demuxmix Version: 1.10.0 Command: /Library/Frameworks/R.framework/Resources/bin/R CMD INSTALL demuxmix StartedAt: 2025-05-05 15:17:18 -0400 (Mon, 05 May 2025) EndedAt: 2025-05-05 15:17:37 -0400 (Mon, 05 May 2025) EllapsedTime: 18.6 seconds RetCode: 0 Status: OK