Package: demuxmix Version: 1.10.0 Command: /Library/Frameworks/R.framework/Resources/bin/R CMD build --keep-empty-dirs --no-resave-data demuxmix StartedAt: 2025-04-28 21:17:41 -0400 (Mon, 28 Apr 2025) EndedAt: 2025-04-28 21:17:55 -0400 (Mon, 28 Apr 2025) EllapsedTime: 14.1 seconds RetCode: 0 Status: OK PackageFile: demuxmix_1.10.0.tar.gz PackageFileSize: 1.422 MiB