Package: demuxmix Version: 1.10.0 Command: rm -rf demuxmix.buildbin-libdir && mkdir demuxmix.buildbin-libdir && /Users/biocbuild/BBS/utils/build-universal.sh demuxmix_1.10.0.tar.gz /Library/Frameworks/R.framework/Resources/bin/R demuxmix.buildbin-libdir StartedAt: 2025-05-07 15:30:16 -0400 (Wed, 07 May 2025) EndedAt: 2025-05-07 15:30:30 -0400 (Wed, 07 May 2025) EllapsedTime: 14.6 seconds RetCode: 0 Status: OK PackageFile: demuxmix_1.10.0.tgz PackageFileSize: 1.739 MiB