Package: decoupleR Version: 2.12.0 Command: /home/biocbuild/R/R/bin/R CMD check --install=check:decoupleR.install-out.txt --library=/home/biocbuild/R/R/site-library --no-vignettes --timings decoupleR_2.12.0.tar.gz StartedAt: 2025-01-31 05:29:51 -0000 (Fri, 31 Jan 2025) EndedAt: 2025-01-31 06:09:52 -0000 (Fri, 31 Jan 2025) EllapsedTime: 2400.3 seconds RetCode: None Status: TIMEOUT CheckDir: decoupleR.Rcheck Warnings: NA