Package: decoupleR Version: 2.14.0 Command: chmod a+r decoupleR -R && E:\biocbuild\bbs-3.21-bioc\R\bin\R.exe CMD build --keep-empty-dirs --no-resave-data decoupleR StartedAt: 2025-08-14 18:29:12 -0400 (Thu, 14 Aug 2025) EndedAt: 2025-08-14 18:34:41 -0400 (Thu, 14 Aug 2025) EllapsedTime: 329.4 seconds RetCode: 0 Status: OK PackageFile: decoupleR_2.14.0.tar.gz PackageFileSize: 3.694 MiB