Package: deconvR Version: 1.12.0 Command: /home/biocbuild/R/R/bin/R CMD INSTALL deconvR StartedAt: 2025-01-30 21:03:51 -0000 (Thu, 30 Jan 2025) EndedAt: 2025-01-30 21:04:53 -0000 (Thu, 30 Jan 2025) EllapsedTime: 62.0 seconds RetCode: 0 Status: OK