Package: deconvR Version: 1.12.0 Command: /home/biocbuild/R/R/bin/R CMD check --install=check:deconvR.install-out.txt --library=/home/biocbuild/R/R/site-library --no-vignettes --timings deconvR_1.12.0.tar.gz StartedAt: 2025-01-31 05:29:46 -0000 (Fri, 31 Jan 2025) EndedAt: 2025-01-31 05:29:51 -0000 (Fri, 31 Jan 2025) EllapsedTime: 5.0 seconds RetCode: 1 Status: ERROR CheckDir: deconvR.Rcheck Warnings: NA