Package: deconvR Version: 1.12.0 Command: /home/biocbuild/R/R/bin/R CMD build --keep-empty-dirs --no-resave-data deconvR StartedAt: 2025-01-30 23:02:50 -0000 (Thu, 30 Jan 2025) EndedAt: 2025-01-30 23:05:13 -0000 (Thu, 30 Jan 2025) EllapsedTime: 143.1 seconds RetCode: 0 Status: OK PackageFile: deconvR_1.12.0.tar.gz PackageFileSize: 3.854 MiB