Package: decompTumor2Sig Version: 2.24.0 Command: chmod a+r decompTumor2Sig -R && E:\biocbuild\bbs-3.21-bioc\R\bin\R.exe CMD build --keep-empty-dirs --no-resave-data decompTumor2Sig StartedAt: 2025-08-14 18:27:30 -0400 (Thu, 14 Aug 2025) EndedAt: 2025-08-14 18:36:54 -0400 (Thu, 14 Aug 2025) EllapsedTime: 564.4 seconds RetCode: 0 Status: OK PackageFile: decompTumor2Sig_2.24.0.tar.gz PackageFileSize: 2.387 MiB