Package: decompTumor2Sig Version: 2.24.0 Command: /Library/Frameworks/R.framework/Resources/bin/R CMD build --keep-empty-dirs --no-resave-data decompTumor2Sig StartedAt: 2025-05-05 18:17:36 -0400 (Mon, 05 May 2025) EndedAt: 2025-05-05 18:30:44 -0400 (Mon, 05 May 2025) EllapsedTime: 788.7 seconds RetCode: 0 Status: OK PackageFile: decompTumor2Sig_2.24.0.tar.gz PackageFileSize: 2.723 MiB