Package: decompTumor2Sig Version: 2.24.0 Command: rm -rf decompTumor2Sig.buildbin-libdir && mkdir decompTumor2Sig.buildbin-libdir && /Users/biocbuild/BBS/utils/build-universal.sh decompTumor2Sig_2.24.0.tar.gz /Library/Frameworks/R.framework/Resources/bin/R decompTumor2Sig.buildbin-libdir StartedAt: 2025-05-06 12:27:13 -0400 (Tue, 06 May 2025) EndedAt: 2025-05-06 12:28:43 -0400 (Tue, 06 May 2025) EllapsedTime: 90.6 seconds RetCode: 0 Status: OK PackageFile: decompTumor2Sig_2.24.0.tgz PackageFileSize: 2.761 MiB