Package: decompTumor2Sig Version: 2.24.0 Command: /Library/Frameworks/R.framework/Resources/bin/R CMD check --install=check:decompTumor2Sig.install-out.txt --library=/Library/Frameworks/R.framework/Resources/library --no-vignettes --timings decompTumor2Sig_2.24.0.tar.gz StartedAt: 2025-04-21 20:09:48 -0400 (Mon, 21 Apr 2025) EndedAt: 2025-04-21 20:16:57 -0400 (Mon, 21 Apr 2025) EllapsedTime: 428.3 seconds RetCode: 0 Status: OK CheckDir: decompTumor2Sig.Rcheck Warnings: 0