Package: decompTumor2Sig Version: 2.24.0 Command: /Library/Frameworks/R.framework/Resources/bin/R CMD build --keep-empty-dirs --no-resave-data decompTumor2Sig StartedAt: 2025-04-21 16:30:29 -0400 (Mon, 21 Apr 2025) EndedAt: 2025-04-21 16:35:57 -0400 (Mon, 21 Apr 2025) EllapsedTime: 327.8 seconds RetCode: 0 Status: OK PackageFile: decompTumor2Sig_2.24.0.tar.gz PackageFileSize: 2.723 MiB