Package: decompTumor2Sig Version: 2.24.0 Command: rm -rf decompTumor2Sig.buildbin-libdir && mkdir decompTumor2Sig.buildbin-libdir && /Users/biocbuild/BBS/utils/build-universal.sh decompTumor2Sig_2.24.0.tar.gz /Library/Frameworks/R.framework/Resources/bin/R decompTumor2Sig.buildbin-libdir StartedAt: 2025-04-22 00:41:33 -0400 (Tue, 22 Apr 2025) EndedAt: 2025-04-22 00:42:33 -0400 (Tue, 22 Apr 2025) EllapsedTime: 59.9 seconds RetCode: 0 Status: OK PackageFile: decompTumor2Sig_2.24.0.tgz PackageFileSize: 2.762 MiB