Package: decompTumor2Sig Version: 2.24.0 Command: /Library/Frameworks/R.framework/Resources/bin/R CMD INSTALL decompTumor2Sig StartedAt: 2025-04-21 15:31:08 -0400 (Mon, 21 Apr 2025) EndedAt: 2025-04-21 15:31:27 -0400 (Mon, 21 Apr 2025) EllapsedTime: 18.4 seconds RetCode: 0 Status: OK