Package: decompTumor2Sig Version: 2.24.0 Command: /Library/Frameworks/R.framework/Resources/bin/R CMD build --keep-empty-dirs --no-resave-data decompTumor2Sig StartedAt: 2025-04-21 16:06:42 -0400 (Mon, 21 Apr 2025) EndedAt: 2025-04-21 16:46:42 -0400 (Mon, 21 Apr 2025) EllapsedTime: 2400.8 seconds RetCode: None Status: TIMEOUT PackageFile: None PackageFileSize: NA