Package: decompTumor2Sig Version: 2.24.0 Command: /Library/Frameworks/R.framework/Resources/bin/R CMD build --keep-empty-dirs --no-resave-data decompTumor2Sig StartedAt: 2025-05-22 22:20:00 -0400 (Thu, 22 May 2025) EndedAt: 2025-05-22 23:00:00 -0400 (Thu, 22 May 2025) EllapsedTime: 2400.6 seconds RetCode: None Status: TIMEOUT PackageFile: None PackageFileSize: NA