Package: debrowser Version: 1.36.0 Command: /Library/Frameworks/R.framework/Resources/bin/R CMD check --install=check:debrowser.install-out.txt --library=/Library/Frameworks/R.framework/Resources/library --no-vignettes --timings debrowser_1.36.0.tar.gz StartedAt: 2025-05-13 02:46:49 -0400 (Tue, 13 May 2025) EndedAt: 2025-05-13 03:00:15 -0400 (Tue, 13 May 2025) EllapsedTime: 806.0 seconds RetCode: 0 Status: OK CheckDir: debrowser.Rcheck Warnings: 0