Package: ddPCRclust Version: 1.28.0 Command: /home/biocbuild/bbs-3.21-bioc/R/bin/R CMD INSTALL ddPCRclust StartedAt: 2025-10-15 15:13:30 -0400 (Wed, 15 Oct 2025) EndedAt: 2025-10-15 15:13:43 -0400 (Wed, 15 Oct 2025) EllapsedTime: 12.5 seconds RetCode: 0 Status: OK