Package: ddPCRclust Version: 1.28.0 Command: /home/biocbuild/bbs-3.21-bioc/R/bin/R CMD build --keep-empty-dirs --no-resave-data ddPCRclust StartedAt: 2025-10-15 17:04:53 -0400 (Wed, 15 Oct 2025) EndedAt: 2025-10-15 17:05:25 -0400 (Wed, 15 Oct 2025) EllapsedTime: 32.0 seconds RetCode: 0 Status: OK PackageFile: ddPCRclust_1.28.0.tar.gz PackageFileSize: 1.192 MiB