Package: ddPCRclust Version: 1.28.0 Command: rm -rf ddPCRclust.buildbin-libdir && mkdir ddPCRclust.buildbin-libdir && /Users/biocbuild/BBS/utils/build-universal.sh ddPCRclust_1.28.0.tar.gz /Library/Frameworks/R.framework/Resources/bin/R ddPCRclust.buildbin-libdir StartedAt: 2025-04-29 16:17:59 -0400 (Tue, 29 Apr 2025) EndedAt: 2025-04-29 16:18:30 -0400 (Tue, 29 Apr 2025) EllapsedTime: 31.4 seconds RetCode: 0 Status: OK PackageFile: ddPCRclust_1.28.0.tgz PackageFileSize: 1.343 MiB