Package: ddPCRclust Version: 1.28.0 Command: /Library/Frameworks/R.framework/Resources/bin/R CMD check --install=check:ddPCRclust.install-out.txt --library=/Library/Frameworks/R.framework/Resources/library --no-vignettes --timings ddPCRclust_1.28.0.tar.gz StartedAt: 2025-04-21 18:59:49 -0400 (Mon, 21 Apr 2025) EndedAt: 2025-04-21 19:00:46 -0400 (Mon, 21 Apr 2025) EllapsedTime: 56.7 seconds RetCode: 0 Status: OK CheckDir: ddPCRclust.Rcheck Warnings: 0