Package: dce Version: 1.14.0 Command: /home/biocbuild/R/R/bin/R CMD INSTALL dce StartedAt: 2025-02-03 21:18:31 -0000 (Mon, 03 Feb 2025) EndedAt: 2025-02-03 21:19:10 -0000 (Mon, 03 Feb 2025) EllapsedTime: 39.0 seconds RetCode: 0 Status: OK