Package: dce
Version: 1.14.0
Command: chmod a+r dce -R && F:\biocbuild\bbs-3.20-bioc\R\bin\R.exe CMD build --keep-empty-dirs --no-resave-data dce
StartedAt: 2025-02-10 18:25:21 -0500 (Mon, 10 Feb 2025)
EndedAt: 2025-02-10 18:28:31 -0500 (Mon, 10 Feb 2025)
EllapsedTime: 189.9 seconds
RetCode: 1
Status: ERROR
PackageFile: None
PackageFileSize: NA